BEGIN:VCALENDAR
VERSION:2.0
PRODID:-//Tukios.com/
BEGIN:VEVENT
UID:8bf5ce1e-ccc1-4923-9fa6-d1ad0aa61070@www.lunsfordfuneralhome.com
DTSTAMP:20260422T050507Z
DTSTART:20260424T140000Z
DTEND:20260424T150000Z
SUMMARY:Graveside Service
DESCRIPTION:
URL:https://www.lunsfordfuneralhome.com/obituaries/kathy-shivers
LOCATION:  Cotton Hill Road  Fort Gaines GA 
GEO:31.6302401;-85.0344928
END:VEVENT
END:VCALENDAR